BEGIN:VCALENDAR
VERSION:2.0
PRODID:-//wp-events-plugin.com//7.2.3.1//EN
TZID:Europe/Paris
X-WR-TIMEZONE:Europe/Paris
BEGIN:VEVENT
UID:1540@crtducouserans.fr
DTSTART;TZID=Europe/Paris:20260508T103000
DTEND;TZID=Europe/Paris:20260508T113000
DTSTAMP:20260417T094137Z
URL:https://crtducouserans.fr/evenements/annulee-gym-seniors-sur-chaise-au
 -club-des-loisirs-de-st-girons/
SUMMARY:ANNULEE Gym séniors sur chaise au Club des Loisirs de St Girons
DESCRIPTION:Gym séniors sur chaise: 10h30-11h30 : Club des Loisirs de St 
 Girons (salle située 8 avenue Aristide Bergès à St Girons) Association 
 Gym/détente - Licence annuelle 80 € - 2 séances gratuites\n\nRenseigne
 ments : Anne-Marie Dubouch / 06 86 53 57 86. Le CRT vous propose un accomp
 agnement véhiculé gratuit (merci de nous prévenir au moins 48 à l'avan
 ce) au 06 86 36 22 32.\nSortie annulée en raison du jour férié
ATTACH;FMTTYPE=image/jpeg:https://crtducouserans.fr/wp-content/uploads/202
 5/12/exercices-chaise-seniors.avif
CATEGORIES:Agenda du reste du Couserans - Inscription au 07.75.66.84.54 /
 06.82.51.20.40,Payant,Transport organisé par le CRT
LOCATION:Club des Loisirs de St-Girons\,  8 Av. Aristide Berges\, Saint-Gir
 ons\, 09200\, France
X-APPLE-STRUCTURED-LOCATION;VALUE=URI;X-ADDRESS= 8 Av. Aristide Berges\, Sa
 int-Girons\, 09200\, France;X-APPLE-RADIUS=100;X-TITLE=Club des Loisirs de
  St-Girons:geo:0,0
END:VEVENT
BEGIN:VTIMEZONE
TZID:Europe/Paris
X-LIC-LOCATION:Europe/Paris
BEGIN:DAYLIGHT
DTSTART:20260329T030000
TZOFFSETFROM:+0100
TZOFFSETTO:+0200
TZNAME:CEST
END:DAYLIGHT
END:VTIMEZONE
END:VCALENDAR