BEGIN:VCALENDAR
VERSION:2.0
PRODID:-//wp-events-plugin.com//7.2.3.1//EN
TZID:Europe/Paris
X-WR-TIMEZONE:Europe/Paris
BEGIN:VEVENT
UID:1559@crtducouserans.fr
DTSTART;TZID=Europe/Paris:20260525T090000
DTEND;TZID=Europe/Paris:20260525T120000
DTSTAMP:20260417T095720Z
URL:https://crtducouserans.fr/evenements/annulee-la-navette-du-crt-pour-vo
 us-rendre-au-marche-de-salies-du-salat/
SUMMARY:ANNULEE La navette du CRT pour vous rendre au marché de Salies-du-
 Salat
DESCRIPTION:Navette marché Salies du Salat - 9h-12h : vous ne pouvez pas p
 rendre le bus ou le transport à la demande en raison de problèmes de san
 té ? Nous vous accompagnons au marché de Salies du Salat\, tous les lund
 is ! Contactez-nous au 07 75 66 84 43 si vous êtes intéressé (au moins
  48h avant pour organiser au mieux le service de transport).\n\nSortie ann
 ulée en raison du jour fériée
ATTACH;FMTTYPE=image/jpeg:https://crtducouserans.fr/wp-content/uploads/202
 5/10/marche-salies-du-salat.jpg
CATEGORIES:Agenda du reste du Couserans - Inscription au 07.75.66.84.54 /
 06.82.51.20.40,Gratuit
END:VEVENT
BEGIN:VTIMEZONE
TZID:Europe/Paris
X-LIC-LOCATION:Europe/Paris
BEGIN:DAYLIGHT
DTSTART:20260329T030000
TZOFFSETFROM:+0100
TZOFFSETTO:+0200
TZNAME:CEST
END:DAYLIGHT
END:VTIMEZONE
END:VCALENDAR