BEGIN:VCALENDAR
VERSION:2.0
PRODID:-//wp-events-plugin.com//7.2.3.1//EN
TZID:Europe/Paris
X-WR-TIMEZONE:Europe/Paris
BEGIN:VEVENT
UID:1546@crtducouserans.fr
DTSTART;TZID=Europe/Paris:20260514T090000
DTEND;TZID=Europe/Paris:20260514T120000
DTSTAMP:20260417T094315Z
URL:https://crtducouserans.fr/evenements/annulee-la-navette-du-crt-vous-em
 mene-au-marche-de-la-bastide-de-serou/
SUMMARY:ANNULEE La navette du CRT vous emmène au marché de La Bastide de 
 Sérou
DESCRIPTION:Navette marché de La Bastide de Sérou de 9h à 12h : vous ne 
 pouvez pas prendre le bus ou le transport à la demande en raison de probl
 èmes de santé ? Nous vous accompagnons au marché de La Bastide de Séro
 u tous les jeudis matin. C'est aussi l'occasion de rencontrer France Servi
 ces qui propose une permanence pour vous aider dans vos démarches adminis
 tratives\, de vous rendre à la permanence de l'assistante sociale de sect
 eur ou encore de prendre un rdv médical à la maison de santé. Contactez
  nous au 07 75 66 84 43 si vous êtes intéressé (au moins 48h avant l'é
 vènement svp)Contactez nous au 07 75 66 84 43 si vous êtes intéressé (
 au moins 48h avant l'évènement svp)\n\nSortie réservée aux habitants d
 u Séronais.\nSortie annulée en raison du jour férié
ATTACH;FMTTYPE=image/jpeg:https://crtducouserans.fr/wp-content/uploads/202
 5/12/marche-LBS.jpg
CATEGORIES:Agenda du reste du Couserans - Inscription au 07.75.66.84.54 /
 06.82.51.20.40,Gratuit,Transport organisé par le CRT
END:VEVENT
BEGIN:VTIMEZONE
TZID:Europe/Paris
X-LIC-LOCATION:Europe/Paris
BEGIN:DAYLIGHT
DTSTART:20260329T030000
TZOFFSETFROM:+0100
TZOFFSETTO:+0200
TZNAME:CEST
END:DAYLIGHT
END:VTIMEZONE
END:VCALENDAR