BEGIN:VCALENDAR
VERSION:2.0
PRODID:-//wp-events-plugin.com//7.2.3.1//EN
TZID:Europe/Paris
X-WR-TIMEZONE:Europe/Paris
BEGIN:VEVENT
UID:1558@crtducouserans.fr
DTSTART;TZID=Europe/Paris:20260521T140000
DTEND;TZID=Europe/Paris:20260521T170000
DTSTAMP:20260417T094423Z
URL:https://crtducouserans.fr/evenements/annulee-loto-et-gouter-au-club-de
 s-loisirs-de-st-girons/
SUMMARY:ANNULEE Loto et goûter au club des loisirs de St Girons
DESCRIPTION:Le CRT vous accompagne au Loto et gouter organisé par le Club 
 des Loisirs le 3ème jeudi du mois (salle située 8 avenue Aristide Bergè
 s à St Girons). 13 € / an et 10 € les 4 cartons. Renseignements : Cla
 ude Gaies au 06 30 98 35 25. 1ère séance gratuite.\nSortie annulée
ATTACH;FMTTYPE=image/jpeg:https://crtducouserans.fr/wp-content/uploads/202
 5/09/LOTO-1.png
CATEGORIES:Agenda du reste du Couserans - Inscription au 07.75.66.84.54 /
 06.82.51.20.40,Payant,Transport organisé par le CRT
END:VEVENT
BEGIN:VTIMEZONE
TZID:Europe/Paris
X-LIC-LOCATION:Europe/Paris
BEGIN:DAYLIGHT
DTSTART:20260329T030000
TZOFFSETFROM:+0100
TZOFFSETTO:+0200
TZNAME:CEST
END:DAYLIGHT
END:VTIMEZONE
END:VCALENDAR