BEGIN:VCALENDAR
VERSION:2.0
PRODID:-//wp-events-plugin.com//7.2.3.1//EN
TZID:Europe/Paris
X-WR-TIMEZONE:Europe/Paris
BEGIN:VEVENT
UID:1542@crtducouserans.fr
DTSTART;TZID=Europe/Paris:20260512T100000
DTEND;TZID=Europe/Paris:20260512T123000
DTSTAMP:20260417T084821Z
URL:https://crtducouserans.fr/evenements/atelier-decriture-autobiographiqu
 e-a-rimont-8/
SUMMARY:Atelier d’écriture autobiographique à Rimont
DESCRIPTION:Le CRT vous propose un accompagnement véhiculé vers l'atelier
  d’écriture autobiographique « Renouez avec votre histoire grâce à d
 es jeux d’écriture accessibles à toutes et à tous ». 12 séances vou
 s sont proposées gratuitement car subventionnées par la CARSAT.\n\nDéte
 ndez-vous grâce à des étirements doux. Jonglez avec les mots. Explorez 
 la mémoire et l’oubli. Créez un carnet de vie.\n\nContact : Sarah Bigo
 urdan et Claudia Ruanlt. Inscriptions au 06 51 15 24 07 (places limitées)
 .\n\n&nbsp\;
ATTACH;FMTTYPE=image/jpeg:https://crtducouserans.fr/wp-content/uploads/202
 6/02/ateliers-ecriture_rimont_A4-pdf.jpg
CATEGORIES:Agenda du reste du Couserans - Inscription au 07.75.66.84.54 /
 06.82.51.20.40,Gratuit,Transport organisé par le CRT
END:VEVENT
BEGIN:VTIMEZONE
TZID:Europe/Paris
X-LIC-LOCATION:Europe/Paris
BEGIN:DAYLIGHT
DTSTART:20260329T030000
TZOFFSETFROM:+0100
TZOFFSETTO:+0200
TZNAME:CEST
END:DAYLIGHT
END:VTIMEZONE
END:VCALENDAR