BEGIN:VCALENDAR
VERSION:2.0
PRODID:-//wp-events-plugin.com//7.2.3.1//EN
TZID:Europe/Paris
X-WR-TIMEZONE:Europe/Paris
BEGIN:VEVENT
UID:1545@crtducouserans.fr
DTSTART;TZID=Europe/Paris:20260513T100000
DTEND;TZID=Europe/Paris:20260513T110000
DTSTAMP:20260417T085319Z
URL:https://crtducouserans.fr/evenements/atelier-memoire-avec-le-club-des-
 loisirs-de-saint-girons-6/
SUMMARY:Atelier mémoire avec le Club des Loisirs de Saint-Girons
DESCRIPTION:Atelier mémoire organisé par le Club des Loisirs de St Girons
  (salle située 8 avenue Aristide Bergès à St Girons) pour stimuler ses 
 fonctions cognitives tout en s’amusant. 2 séances découvertes gratuit
 es – adhésion annuelle : 25 €.\nContactez-nous au 06 86 36 22 32 si 
 vous êtes intéressé.
ATTACH;FMTTYPE=image/jpeg:https://crtducouserans.fr/wp-content/uploads/202
 5/10/image-C-fiches-atelier-memoire-personnes-agees.jpeg
CATEGORIES:Agenda du reste du Couserans - Inscription au 07.75.66.84.54 /
 06.82.51.20.40,Gratuit,Transport autonome
END:VEVENT
BEGIN:VTIMEZONE
TZID:Europe/Paris
X-LIC-LOCATION:Europe/Paris
BEGIN:DAYLIGHT
DTSTART:20260329T030000
TZOFFSETFROM:+0100
TZOFFSETTO:+0200
TZNAME:CEST
END:DAYLIGHT
END:VTIMEZONE
END:VCALENDAR