BEGIN:VCALENDAR
VERSION:2.0
PRODID:-//wp-events-plugin.com//7.2.3.1//EN
TZID:Europe/Paris
X-WR-TIMEZONE:Europe/Paris
BEGIN:VEVENT
UID:1530@crtducouserans.fr
DTSTART;TZID=Europe/Paris:20260430T143000
DTEND;TZID=Europe/Paris:20260430T163000
DTSTAMP:20260409T123441Z
URL:https://crtducouserans.fr/evenements/atelier-peinture-dessin-avec-les-
 amis-de-lestelas-a-prat-bonrepaux/
SUMMARY:Atelier peinture dessin avec les Amis de l'Estelas à Prat Bonrepau
 x
DESCRIPTION:Venez exprimer vos talents artistiques lors de l'atelier propos
 é par Aurora Piras\, projet accueilli par les Amis de l'Estelas à l'EHPA
 D de Prat Bonrepaux.\n\nLes 2ème et 4ème jeudi du mois d'avril à juin. 
 Le CRT vous propose un accompagnement véhiculé une fois / mois.\n\nRense
 ignements : gratuit - sur inscription au 06 30 92 14 83.
ATTACH;FMTTYPE=image/jpeg:https://crtducouserans.fr/wp-content/uploads/202
 6/04/affiche-atelier-dessin-Aurora_Prat.jpg
CATEGORIES:Agenda du reste du Couserans - Inscription au 07.75.66.84.54 /
 06.82.51.20.40,Gratuit,Transport organisé par le CRT
END:VEVENT
BEGIN:VTIMEZONE
TZID:Europe/Paris
X-LIC-LOCATION:Europe/Paris
BEGIN:DAYLIGHT
DTSTART:20260329T030000
TZOFFSETFROM:+0100
TZOFFSETTO:+0200
TZNAME:CEST
END:DAYLIGHT
END:VTIMEZONE
END:VCALENDAR