BEGIN:VCALENDAR
VERSION:2.0
PRODID:-//wp-events-plugin.com//7.2.3.1//EN
TZID:Europe/Paris
X-WR-TIMEZONE:Europe/Paris
BEGIN:VEVENT
UID:1553@crtducouserans.fr
DTSTART;TZID=Europe/Paris:20260520T090000
DTEND;TZID=Europe/Paris:20260520T120000
DTSTAMP:20260417T090728Z
URL:https://crtducouserans.fr/evenements/la-navette-du-crt-vous-emmene-au-
 marche-de-ste-croix-volvestre-2/
SUMMARY:La navette du CRT vous emmène au marché de Ste Croix Volvestre
DESCRIPTION:Navette marché Ste Croix Volvestre de 9h à 12h : vous ne pouv
 ez pas prendre le bus ou le transport à la demande en raison de problème
 s de santé ? Nous vous accompagnons au marché de Ste Croix Volvestre tou
 s les mercredi matins. Contactez-nous au 07 75 66 84 43 si vous êtes int
 éressé (au moins 48h avant l'évènement svp)
ATTACH;FMTTYPE=image/jpeg:https://crtducouserans.fr/wp-content/uploads/202
 5/10/marche-salies-du-salat.jpg
CATEGORIES:Agenda du reste du Couserans - Inscription au 07.75.66.84.54 /
 06.82.51.20.40,Gratuit,Transport organisé par le CRT
END:VEVENT
BEGIN:VTIMEZONE
TZID:Europe/Paris
X-LIC-LOCATION:Europe/Paris
BEGIN:DAYLIGHT
DTSTART:20260329T030000
TZOFFSETFROM:+0100
TZOFFSETTO:+0200
TZNAME:CEST
END:DAYLIGHT
END:VTIMEZONE
END:VCALENDAR