BEGIN:VCALENDAR
VERSION:2.0
PRODID:-//wp-events-plugin.com//7.2.3.1//EN
TZID:Europe/Paris
X-WR-TIMEZONE:Europe/Paris
BEGIN:VEVENT
UID:1537@crtducouserans.fr
DTSTART;TZID=Europe/Paris:20260506T140000
DTEND;TZID=Europe/Paris:20260506T163000
DTSTAMP:20260417T081826Z
URL:https://crtducouserans.fr/evenements/loto-et-gouter-a-eycheil-8/
SUMMARY:Loto et goûter à Eycheil
DESCRIPTION:Profitez d'un moment de convivialité et de stimulation des fon
 ctions cognitives en vous amusant! Le comité des fêtes organise 2 lotos 
 par mois à la salle des fêtes d'Eycheil.\n\nRenseignements : adhésion a
 nnuelle 20 € + 8 € / 4 cartons.\n\nMerci de nous contacter si vous êt
 es intéressés au 07 75 66 84 43.
ATTACH;FMTTYPE=image/jpeg:https://crtducouserans.fr/wp-content/uploads/202
 5/09/LOTO-1.png
CATEGORIES:Agenda du reste du Couserans - Inscription au 07.75.66.84.54 /
 06.82.51.20.40,Payant,Transport organisé par le CRT
END:VEVENT
BEGIN:VTIMEZONE
TZID:Europe/Paris
X-LIC-LOCATION:Europe/Paris
BEGIN:DAYLIGHT
DTSTART:20260329T030000
TZOFFSETFROM:+0100
TZOFFSETTO:+0200
TZNAME:CEST
END:DAYLIGHT
END:VTIMEZONE
END:VCALENDAR