BEGIN:VCALENDAR
VERSION:2.0
PRODID:-//wp-events-plugin.com//7.2.3.1//EN
TZID:Europe/Paris
X-WR-TIMEZONE:Europe/Paris
BEGIN:VEVENT
UID:1538@crtducouserans.fr
DTSTART;TZID=Europe/Paris:20260507T140000
DTEND;TZID=Europe/Paris:20260507T160000
DTSTAMP:20260417T083615Z
URL:https://crtducouserans.fr/evenements/sortie-conviviale-a-massat/
SUMMARY:Sortie conviviale à Massat
DESCRIPTION:Venez vous joindre à nous pour une sortie matinale au Palais d
 e Saint Lizier !\n\n7\,50E pour l'entrée du musée\n\nATTENTION 15 marche
 s sont à gravir !
ATTACH;FMTTYPE=image/jpeg:https://crtducouserans.fr/wp-content/uploads/202
 6/04/massat.jpg
CATEGORIES:Agenda du reste du Couserans - Inscription au 07.75.66.84.54 /
 06.82.51.20.40,Gratuit,Transport organisé par le CRT
END:VEVENT
BEGIN:VTIMEZONE
TZID:Europe/Paris
X-LIC-LOCATION:Europe/Paris
BEGIN:DAYLIGHT
DTSTART:20260329T030000
TZOFFSETFROM:+0100
TZOFFSETTO:+0200
TZNAME:CEST
END:DAYLIGHT
END:VTIMEZONE
END:VCALENDAR