BEGIN:VCALENDAR
VERSION:2.0
PRODID:-//wp-events-plugin.com//7.2.3.1//EN
TZID:Europe/Paris
X-WR-TIMEZONE:Europe/Paris
BEGIN:VEVENT
UID:1520@crtducouserans.fr
DTSTART;TZID=Europe/Paris:20260423T140000
DTEND;TZID=Europe/Paris:20260423T170000
DTSTAMP:20260409T120820Z
URL:https://crtducouserans.fr/evenements/sortie-courses-saint-girons-massa
 tois/
SUMMARY:Sortie courses Saint Girons - Massatois
DESCRIPTION:Vous avez besoin de faire des courses à Intermarché ou d’al
 ler à la pharmacie ? Le CRT vous emmène faire vos emplettes. Ce créneau
  est uniquement réservé aux habitants du Massatois\n\nContactez nous au 
 07 75 66 84 43 si vous êtes intéressé (au moins 48h avant l'évènement
  svp)
ATTACH;FMTTYPE=image/jpeg:https://crtducouserans.fr/wp-content/uploads/202
 6/02/intermarche.webp
CATEGORIES:Agenda du reste du Couserans - Inscription au 07.75.66.84.54 /
 06.82.51.20.40,Gratuit,Transport organisé par le CRT
END:VEVENT
BEGIN:VTIMEZONE
TZID:Europe/Paris
X-LIC-LOCATION:Europe/Paris
BEGIN:DAYLIGHT
DTSTART:20260329T030000
TZOFFSETFROM:+0100
TZOFFSETTO:+0200
TZNAME:CEST
END:DAYLIGHT
END:VTIMEZONE
END:VCALENDAR