BEGIN:VCALENDAR
VERSION:2.0
PRODID:-//wp-events-plugin.com//7.2.3.1//EN
TZID:Europe/Paris
X-WR-TIMEZONE:Europe/Paris
BEGIN:VEVENT
UID:1543@crtducouserans.fr
DTSTART;TZID=Europe/Paris:20260512T140000
DTEND;TZID=Europe/Paris:20260512T170000
DTSTAMP:20260417T085034Z
URL:https://crtducouserans.fr/evenements/sortie-courses-secteur-castillon-
 en-couserans-intermarche-de-saint-girons/
SUMMARY:Sortie courses secteur Castillon en Couserans / Intermarché de Sai
 nt-Girons
DESCRIPTION:Le CRT vous propose un accompagnement véhiculé gratuit (adapt
 é PMR) pour faire vos courses en grande surface (petit ou grand Intermarc
 hé en fonction de vos besoins). Nous pouvons également vous emmener à l
 a pharmacie en cas de besoin.\n\nIl s'agit d'un transport collectif\, merc
 i de nous prévenir au moins 48h à l'avance pour organiser la sortie. La 
 prise en charge se fera à votre domicile.\n\nContactez nous au 07 75 66 8
 4 43 si vous êtes intéressé.
ATTACH;FMTTYPE=image/jpeg:https://crtducouserans.fr/wp-content/uploads/202
 5/10/intermarche.webp
CATEGORIES:Agenda du reste du Couserans - Inscription au 07.75.66.84.54 /
 06.82.51.20.40,Gratuit,Transport organisé par le CRT
END:VEVENT
BEGIN:VTIMEZONE
TZID:Europe/Paris
X-LIC-LOCATION:Europe/Paris
BEGIN:DAYLIGHT
DTSTART:20260329T030000
TZOFFSETFROM:+0100
TZOFFSETTO:+0200
TZNAME:CEST
END:DAYLIGHT
END:VTIMEZONE
END:VCALENDAR