BEGIN:VCALENDAR
VERSION:2.0
PRODID:-//wp-events-plugin.com//7.2.3.1//EN
TZID:Europe/Paris
X-WR-TIMEZONE:Europe/Paris
BEGIN:VEVENT
UID:148@crtducouserans.fr
DTSTART;TZID=Europe/Paris:20250902T091500
DTEND;TZID=Europe/Paris:20250902T124500
DTSTAMP:20250817T203455Z
URL:https://crtducouserans.fr/evenements/sortie-palais-des-eveques-depart-
 prevu-de-votre-domicile-entre-9h15-et-9h45-retour-entre-12h15-et-12h45/
SUMMARY:Sortie Palais des Evêques - Départ prévu de votre domicile entre
  9h15 et 9h45\, retour entre 12h15 et 12h45
DESCRIPTION:Venez vous joindre à nous pour une sortie matinale au Palais d
 e Saint Lizier !\n\n7\,50E pour l'entrée du musée\n\nATTENTION 15 marche
 s sont à gravir !
ATTACH;FMTTYPE=image/jpeg:https://crtducouserans.fr/wp-content/uploads/202
 5/08/Palais-des-Eveques.jpg
CATEGORIES:Agenda du Haut Salat - Inscription au 07.87.97.17.35 /
 06.82.51.20.40,Agenda du reste du Couserans - Inscription au
 07.75.66.84.54 / 06.82.51.20.40,Payant,Transport organisé par le CRT
END:VEVENT
BEGIN:VTIMEZONE
TZID:Europe/Paris
X-LIC-LOCATION:Europe/Paris
BEGIN:DAYLIGHT
DTSTART:20250330T030000
TZOFFSETFROM:+0100
TZOFFSETTO:+0200
TZNAME:CEST
END:DAYLIGHT
END:VTIMEZONE
END:VCALENDAR