BEGIN:VCALENDAR
VERSION:2.0
PRODID:-//wp-events-plugin.com//7.2.3.1//EN
TZID:Europe/Paris
X-WR-TIMEZONE:Europe/Paris
BEGIN:VEVENT
UID:1476@crtducouserans.fr
DTSTART;TZID=Europe/Paris:20260503T080000
DTEND;TZID=Europe/Paris:20260503T180000
DTSTAMP:20260407T074248Z
URL:https://crtducouserans.fr/evenements/vide-de-grenier-a-seix/
SUMMARY:Vide de Grenier à SEIX
DESCRIPTION:
ATTACH;FMTTYPE=image/jpeg:https://crtducouserans.fr/wp-content/uploads/202
 6/03/1.png
CATEGORIES:Agenda du Haut Salat - Inscription au 07.87.97.17.35 /
 06.82.51.20.40,Agenda du reste du Couserans - Inscription au
 07.75.66.84.54 / 06.82.51.20.40,Transport organisé par le CRT
END:VEVENT
BEGIN:VTIMEZONE
TZID:Europe/Paris
X-LIC-LOCATION:Europe/Paris
BEGIN:DAYLIGHT
DTSTART:20260329T030000
TZOFFSETFROM:+0100
TZOFFSETTO:+0200
TZNAME:CEST
END:DAYLIGHT
END:VTIMEZONE
END:VCALENDAR